BEGIN:VCALENDAR
VERSION:2.0
PRODID:-//WMSD - ECPv6.15.17.1//NONSGML v1.0//EN
CALSCALE:GREGORIAN
METHOD:PUBLISH
X-WR-CALNAME:WMSD
X-ORIGINAL-URL:https://wmsd.co.uk
X-WR-CALDESC:Events for WMSD
REFRESH-INTERVAL;VALUE=DURATION:PT1H
X-Robots-Tag:noindex
X-PUBLISHED-TTL:PT1H
BEGIN:VTIMEZONE
TZID:UTC
BEGIN:STANDARD
TZOFFSETFROM:+0000
TZOFFSETTO:+0000
TZNAME:UTC
DTSTART:20220101T000000
END:STANDARD
END:VTIMEZONE
BEGIN:VEVENT
DTSTART;TZID=UTC:20230111T152500
DTEND;TZID=UTC:20230216T162500
DTSTAMP:20260421T185307
CREATED:20230104T123307Z
LAST-MODIFIED:20230104T204509Z
UID:4471-1673450700-1676564700@wmsd.co.uk
SUMMARY:Chadsmoor Junior After School Clubs
DESCRIPTION:Content is protected.
URL:https://wmsd.co.uk/sports-camp/chadsmoor-junior-after-school-clubs-11/
LOCATION:Chadsmoor CE (VC) Junior School\, Burns st\, Cannock\, Staffordshire\, WS11 6DR\, United Kingdom
CATEGORIES:After School Club
END:VEVENT
END:VCALENDAR