BEGIN:VCALENDAR
VERSION:2.0
PRODID:-//WMSD - ECPv6.15.17.1//NONSGML v1.0//EN
CALSCALE:GREGORIAN
METHOD:PUBLISH
X-WR-CALNAME:WMSD
X-ORIGINAL-URL:https://wmsd.co.uk
X-WR-CALDESC:Events for WMSD
REFRESH-INTERVAL;VALUE=DURATION:PT1H
X-Robots-Tag:noindex
X-PUBLISHED-TTL:PT1H
BEGIN:VTIMEZONE
TZID:UTC
BEGIN:STANDARD
TZOFFSETFROM:+0000
TZOFFSETTO:+0000
TZNAME:UTC
DTSTART:20210101T000000
END:STANDARD
END:VTIMEZONE
BEGIN:VEVENT
DTSTART;TZID=UTC:20220607T151500
DTEND;TZID=UTC:20220719T161500
DTSTAMP:20260422T045538
CREATED:20220526T113503Z
LAST-MODIFIED:20220527T065113Z
UID:3839-1654614900-1658247300@wmsd.co.uk
SUMMARY:St Josephs Hednesford  School Multi-Sports  Club
DESCRIPTION:Content is protected.
URL:https://wmsd.co.uk/sports-camp/st-josephs-hednesford-school-multi-sports-club-7/
LOCATION:St Josephs Catholic Hednesford\, Hill Top\, Hednesford\, Staffs\, WS12 1DE
CATEGORIES:After School Club
END:VEVENT
BEGIN:VEVENT
DTSTART;TZID=UTC:20220608T152500
DTEND;TZID=UTC:20220714T162500
DTSTAMP:20260422T045538
CREATED:20220526T120331Z
LAST-MODIFIED:20220609T110302Z
UID:3843-1654701900-1657815900@wmsd.co.uk
SUMMARY:Chadsmoor Junior After School Clubs
DESCRIPTION:Content is protected.
URL:https://wmsd.co.uk/sports-camp/chadsmoor-junior-after-school-clubs-9/
LOCATION:Chadsmoor CE (VC) Junior School\, Burns st\, Cannock\, Staffordshire\, WS11 6DR\, United Kingdom
CATEGORIES:After School Club
END:VEVENT
BEGIN:VEVENT
DTSTART;TZID=UTC:20220610T151000
DTEND;TZID=UTC:20220715T161000
DTSTAMP:20260422T045538
CREATED:20220526T194504Z
LAST-MODIFIED:20220707T105819Z
UID:3848-1654873800-1657901400@wmsd.co.uk
SUMMARY:St Thomas More After School Clubs
DESCRIPTION:Content is protected.
URL:https://wmsd.co.uk/sports-camp/st-thomas-more-after-school-clubs-7/
LOCATION:St Thomas More Catholic Primary School\, Hut Hill Lane\, Great Wyrley\, Staffordshire\, WS6 6PG\, United Kingdom
CATEGORIES:After School Club
END:VEVENT
END:VCALENDAR