BEGIN:VCALENDAR
VERSION:2.0
PRODID:-//WMSD - ECPv6.15.17.1//NONSGML v1.0//EN
CALSCALE:GREGORIAN
METHOD:PUBLISH
X-ORIGINAL-URL:https://wmsd.co.uk
X-WR-CALDESC:Events for WMSD
REFRESH-INTERVAL;VALUE=DURATION:PT1H
X-Robots-Tag:noindex
X-PUBLISHED-TTL:PT1H
BEGIN:VTIMEZONE
TZID:UTC
BEGIN:STANDARD
TZOFFSETFROM:+0000
TZOFFSETTO:+0000
TZNAME:UTC
DTSTART:20210101T000000
END:STANDARD
END:VTIMEZONE
BEGIN:VEVENT
DTSTART;TZID=UTC:20220412T084500
DTEND;TZID=UTC:20220414T153000
DTSTAMP:20260421T155051
CREATED:20220301T131145Z
LAST-MODIFIED:20220404T090342Z
UID:3537-1649753100-1649950200@wmsd.co.uk
SUMMARY:Easter 2022 Holiday Multi-Sports Active Camp
DESCRIPTION:Join us this Easter Holiday for some action-packed FUN filled days that are Safe and Engaging for all children \nThrough our sporting activities\, children can enjoy lots of new games and challenges which will help build confidence\, resilience and more… they will also get the chance to make friendships and lifelong memories!\nWe’ve got your child’s needs covered with an exciting schedule that’s sure to deliver in all the FUN and EXCITEMENT \nLimited places – we will place children into age-related groups (where possible)  these consist of up to 15 children\, this will allow us to have more space when based inside although we will look to be outside as much as possible \nTimes 8.45-3.30 \nAges 5-11 years old \nCost – £50 – 3 Days – Tuesday 12th – Thursday 14th April inclusive \nCost per Day – Tuesday £22 Wednesday £22 or Thursday £22
URL:https://wmsd.co.uk/sports-camp/easter-2022-holiday-camp/
LOCATION:St Thomas More Catholic Primary School\, Hut Hill Lane\, Great Wyrley\, Staffordshire\, WS6 6PG\, United Kingdom
CATEGORIES:3 Day Pass,Multi Sports Coaching Courses
ATTACH;FMTTYPE=image/jpeg:https://wmsd.co.uk/wp-content/uploads/2022/03/istockphoto-1089167012-612x612-1.jpg
END:VEVENT
END:VCALENDAR