BEGIN:VCALENDAR
VERSION:2.0
PRODID:-//WMSD - ECPv6.15.17.1//NONSGML v1.0//EN
CALSCALE:GREGORIAN
METHOD:PUBLISH
X-ORIGINAL-URL:https://wmsd.co.uk
X-WR-CALDESC:Events for WMSD
REFRESH-INTERVAL;VALUE=DURATION:PT1H
X-Robots-Tag:noindex
X-PUBLISHED-TTL:PT1H
BEGIN:VTIMEZONE
TZID:UTC
BEGIN:STANDARD
TZOFFSETFROM:+0000
TZOFFSETTO:+0000
TZNAME:UTC
DTSTART:20210101T000000
END:STANDARD
END:VTIMEZONE
BEGIN:VEVENT
DTSTART;TZID=UTC:20220222T084500
DTEND;TZID=UTC:20220224T153000
DTSTAMP:20260421T185625
CREATED:20220111T141106Z
LAST-MODIFIED:20260421T125337Z
UID:3143-1645519500-1645716600@wmsd.co.uk
SUMMARY:3 Day Pass - February Half Term Holiday Camp 2022
DESCRIPTION:Join us this February Half Term Holiday for some action-packed FUN filled days that are Safe and Engaging for all children.  Re-introducing them to this new way of safe space activity play!! We are so excited to support families at this time\, continuing our mission of providing opportunities to get every Child Active this holiday!!! \nThrough our sporting activities\, children can enjoy lots of new games and challenges which will help build confidence\, resilience and more… they will also get the chance to make friendships and lifelong memories!\nWe’ve got your child’s needs covered with an exciting schedule that’s sure to deliver in all the FUN and EXCITEMENT \nLimited places – we will place children into age-related groups (where possible)  these consist of up to 15 children\, this will allow us to have more space when based inside although we will look to be outside as much as possible \nDrop off and pick up – A queueing system with families required to adhere to the latest social distancing guidelines\, will be in place at the sign-in/sign-out area this will be done outside where possible. \nAges 5-11 years old \nTimes 8.45-3.30 \nCost – 3 Days – Tuesday Wednesday Thursday £48 \nCost per Day – Tuesday £22 Wednesday £22 or Thursday £22
URL:https://wmsd.co.uk/sports-camp/3-day-pass-february-half-term-holiday-camp/
LOCATION:St Thomas More Catholic Primary School\, Hut Hill Lane\, Great Wyrley\, Staffordshire\, WS6 6PG\, United Kingdom
CATEGORIES:3 Day Pass,Multi Sports Coaching Courses
ATTACH;FMTTYPE=image/jpeg:https://wmsd.co.uk/wp-content/uploads/2021/10/OctBookingsPhoto-300x195-1-e1642252578602.jpg
END:VEVENT
BEGIN:VEVENT
DTSTART;TZID=UTC:20220222T084500
DTEND;TZID=UTC:20220224T153000
DTSTAMP:20260421T185625
CREATED:20220218T125159Z
LAST-MODIFIED:20220222T062642Z
UID:3430-1645519500-1645716600@wmsd.co.uk
SUMMARY:3 Day Pass - February Half Term Holiday Camp
DESCRIPTION:Content is protected.
URL:https://wmsd.co.uk/sports-camp/3-day-pass-february-half-term-holiday-camp-2/
LOCATION:St Thomas More Catholic Primary School\, Hut Hill Lane\, Great Wyrley\, Staffordshire\, WS6 6PG\, United Kingdom
CATEGORIES:3 Day Pass,Multi Sports Coaching Courses
END:VEVENT
END:VCALENDAR