BEGIN:VCALENDAR
VERSION:2.0
PRODID:-//WMSD - ECPv6.15.17.1//NONSGML v1.0//EN
CALSCALE:GREGORIAN
METHOD:PUBLISH
X-ORIGINAL-URL:https://wmsd.co.uk
X-WR-CALDESC:Events for WMSD
REFRESH-INTERVAL;VALUE=DURATION:PT1H
X-Robots-Tag:noindex
X-PUBLISHED-TTL:PT1H
BEGIN:VTIMEZONE
TZID:UTC
BEGIN:STANDARD
TZOFFSETFROM:+0000
TZOFFSETTO:+0000
TZNAME:UTC
DTSTART:20190101T000000
END:STANDARD
END:VTIMEZONE
BEGIN:VEVENT
DTSTART;TZID=UTC:20200721T084500
DTEND;TZID=UTC:20200723T153000
DTSTAMP:20260424T154032
CREATED:20200706T151011Z
LAST-MODIFIED:20200716T124504Z
UID:1530-1595321100-1595518200@wmsd.co.uk
SUMMARY:3 Day Pass - It’s On!!!
DESCRIPTION:Join us this summer for some action-packed FUN filled days that are Safe and Engaging for all children.  Re-introducing them to this new way of safe space activity play!! We are so excited to support families at this time\, continuing our mission in providing opportunities to get every Child Active this Summer!! \nThrough our sporting activities\, children can enjoy lots of new games and challenges which will help build confidence\, resilience and more… they will also get the chance to make friendships (at a safe distance) and lifelong memories!\nWe have continued to provide sports lesson in schools to Keyworker and vulnerable children throughout the lockdown giving us best ways to implement the Government guidance and have planned a range of sporting and FUN Games activities each day. We’ve got your child’s needs covered with an exciting summer schedule that’s sure to deliver in all the FUN and EXCITEMENT that we’ve missed over the past few months! \nLimited places – we will group children in “Bubbles” these consist of 15 children\, this will allow us to have more space when based inside although we will look to be outside as much as possible. \nBubbles- children will remain in the same bubble daily and throughout the week \nDrop off and pick up- A queueing system with families requiring to adhere to the latest social distancing guidelines will be in place at the sign in/sign out area this will be done outside where possible. \nFull Week and Part Week Bookings only to keep the same children together throughout the week. \nAges 5-11 years old \nTimes 8.45-3.30 \nCost \n£65 5 days Mon-Friday \n£45 3 Days Tuesday Wednesday Thursday Only
URL:https://wmsd.co.uk/sports-camp/holiday-camp-its-on/
LOCATION:St Thomas More Catholic Primary School\, Hut Hill Lane\, Great Wyrley\, Staffordshire\, WS6 6PG\, United Kingdom
CATEGORIES:3 Day Pass,Multi Sports Coaching Courses
ATTACH;FMTTYPE=image/jpeg:https://wmsd.co.uk/wp-content/uploads/2020/07/watch-e1594040728960.jpg
END:VEVENT
BEGIN:VEVENT
DTSTART;TZID=UTC:20200728T084500
DTEND;TZID=UTC:20200730T153000
DTSTAMP:20260424T154032
CREATED:20200706T160532Z
LAST-MODIFIED:20200716T124224Z
UID:1545-1595925900-1596123000@wmsd.co.uk
SUMMARY:3 Day Pass - It’s On!!!
DESCRIPTION:Join us this summer for some action-packed FUN filled days that are Safe and Engaging for all children.  Re-introducing them to this new way of safe space activity play!! We are so excited to support families at this time\, continuing our mission in providing opportunities to get every Child Active this Summer!! \nThrough our sporting activities\, children can enjoy lots of new games and challenges which will help build confidence\, resilience and more… they will also get the chance to make friendships (at a safe distance) and lifelong memories!\nWe have continued to provide sports lesson in schools to Keyworker and vulnerable children throughout the lockdown giving us best ways to implement the Government guidance and have planned a range of sporting and FUN Games activities each day. We’ve got your child’s needs covered with an exciting summer schedule that’s sure to deliver in all the FUN and EXCITEMENT that we’ve missed over the past few months! \nLimited places – we will group children in “Bubbles” these consist of 15 children\, this will allow us to have more space when based inside although we will look to be outside as much as possible. \nBubbles- children will remain in the same bubble daily and throughout the week \nDrop off and pick up- A queueing system with families requiring to adhere to the latest social distancing guidelines will be in place at the sign in/sign out area this will be done outside where possible. \nFull Week and Part Week Bookings only to keep the same children together throughout the week. \nAges 5-11 years old \nTimes 8.45-3.30 \nCost \n£65 5 days Mon-Friday \n£45 3 Days Tuesday Wednesday Thursday Only
URL:https://wmsd.co.uk/sports-camp/3-day-pass-its-on/
LOCATION:St Thomas More Catholic Primary School\, Hut Hill Lane\, Great Wyrley\, Staffordshire\, WS6 6PG\, United Kingdom
CATEGORIES:3 Day Pass,Multi Sports Coaching Courses
ATTACH;FMTTYPE=image/jpeg:https://wmsd.co.uk/wp-content/uploads/2020/07/watch-e1594040728960.jpg
END:VEVENT
END:VCALENDAR